BEGIN:VCALENDAR
VERSION:2.0
PRODID:-//Türk Karaciğer Vakfı//NONSGML kigkonsult.se iCalcreator 2.41.92//
CALSCALE:GREGORIAN
METHOD:PUBLISH
UID:66653439-3264-4334-b137-356232343861
X-WR-CALNAME:iCagenda
X-WR-CALDESC:Event Management Extension for Joomla!
X-WR-RELCALID:3E26604A-50F4-4449-8B3E-E4F4932D05B5
X-WR-TIMEZONE:Europe/Istanbul
BEGIN:VTIMEZONE
TZID:Europe/Istanbul
TZUNTIL:20151108T010000Z
BEGIN:STANDARD
TZNAME:EET
DTSTART:20121028T040000
TZOFFSETFROM:+0300
TZOFFSETTO:+0200
RDATE:20131027T040000
RDATE:20141026T040000
END:STANDARD
BEGIN:DAYLIGHT
TZNAME:EEST
DTSTART:20130331T030000
TZOFFSETFROM:+0200
TZOFFSETTO:+0300
RDATE:20140331T030000
RDATE:20150329T030000
END:DAYLIGHT
END:VTIMEZONE
BEGIN:VEVENT
UID:61356131-3064-4261-a534-643031326237
DTSTAMP:20260419T173307Z
CATEGORIES:Etkinlik
CLASS:PUBLIC
DESCRIPTION;ALTREP="CID:<FFFF__=0ABBE548DFE235B58f9e8a93d@coffeebean.com>":
 Türk Karaciğer Vakfına Gönül ve Destek Veren Dostlarımızı\,\nDüzenlemiş ol
 duğumuz geleneksel sabah kahvaltısına bekliyoruz.
DTSTART:20131006T070000Z
DTEND:20131006T100000Z
GEO:+41.012524;+28.960188
LOCATION:İstanbul Üniversitesi Profesörler Evi
ORGANIZER:
SEQUENCE:1
SUMMARY:Geleneksel Kahvaltı - 2013
TRANSP:OPAQUE
URL:http://tkcv.org/vakif-hakkinda/etkinlikler/bitmis-etkinlikler/20-gelene
 ksel-kahvalti-2013
END:VEVENT
END:VCALENDAR
