BEGIN:VCALENDAR
VERSION:2.0
PRODID:-//Türk Karaciğer Vakfı//NONSGML kigkonsult.se iCalcreator 2.41.92//
CALSCALE:GREGORIAN
METHOD:PUBLISH
UID:31653033-6138-4363-b138-303631613061
X-WR-CALNAME:iCagenda
X-WR-CALDESC:Event Management Extension for Joomla!
X-WR-RELCALID:3E26604A-50F4-4449-8B3E-E4F4932D05B5
X-WR-TIMEZONE:Europe/Istanbul
BEGIN:VTIMEZONE
TZID:Europe/Istanbul
BEGIN:STANDARD
TZNAME:EET
DTSTART:20151108T040000
TZOFFSETFROM:+0300
TZOFFSETTO:+0200
END:STANDARD
BEGIN:STANDARD
TZNAME:+03
DTSTART:20160907T000000
TZOFFSETFROM:+0300
TZOFFSETTO:+0300
END:STANDARD
BEGIN:DAYLIGHT
TZNAME:EEST
DTSTART:20150329T030000
TZOFFSETFROM:+0200
TZOFFSETTO:+0300
RDATE:20160327T030000
END:DAYLIGHT
END:VTIMEZONE
BEGIN:VEVENT
UID:39633236-3636-4863-a462-323464316136
DTSTAMP:20260421T102236Z
CATEGORIES:Etkinlik
CLASS:PUBLIC
DESCRIPTION;ALTREP="CID:<FFFF__=0ABBE548DFE235B58f9e8a93d@coffeebean.com>":
 Değerli &Uuml\;yelerimiz ve Dostlarımız\nVakfımız ve Hepatitle Yaşam Derne
 ği dayanışma i&ccedil\;inde bir kermes d&uuml\;zenleyecektir. Kermesimiz 3
  iş g&uuml\;n&uuml\; bize bağış olarak tahsis edilen Şişli'deki Vakıflar &
 Ccedil\;arşısı'nda ger&ccedil\;ekleşecektir. Tahmin edeceğiniz gibi\; kerm
 esimizde satılabilecek her t&uuml\;rl&uuml\; eşyaya ihtiya&ccedil\; duymak
 tayız. 10 Şubat 2016 &Ccedil\;arşamba g&uuml\;n&uuml\; akşamına kadar bağı
 şlayabileceğiniz &uuml\;r&uuml\;nleri getirebilir ya da g&ouml\;nderebilir
 siniz. Dostlarınızı da haberdar edebilir onlardan da bağış gelmesine yardı
 mcı olabilirsiniz. Tekstil\, mutfak eşyaları\, cam eşyalar\, giyecek\, tri
 ko\, terlik\, bijuteri\, yeni kitap gibi her t&uuml\;r bağış kabul ediyoru
 z.\n12-13 Şubat 2016 (Cuma-Cumartesi) g&uuml\;nleri kermes masalarımız a&c
 cedil\;ık olacak. Sizleri ve dostlarınızı bu etkinliğimizde aramızda g&oum
 l\;rmek bizi mutlu kılacaktır...\nKermesimizde bulunmak isteyen ve kermes 
 malzemesi g&ouml\;ndermek isteyen g&ouml\;n&uuml\;l dostlarımız vakfımızın
  0212 232 53 70 numaralı telefonundan ve Hepatitle Yaşam Derneği'nin 0212 
 529 01 52 numaralı telefonundan bize ulaşabilirler...\nVereceğiniz desteğe
  şimdiden teşekk&uuml\;r eder\, dost&ccedil\;a yardımlaşma duygularımızın 
 &ccedil\;oğalarak devamını dileriz....\nKatılımlarınızı bekliyoruz.\nD&oum
 l\;rt şekilde kermesimize destek olabilirsiniz.\n\nKermeste satılabilecek 
 her &ccedil\;eşit (triko\, tekstil\, giysi\, havlu\, s&uuml\;s eşyası\, mu
 tfak eşyası\, cam eşya\, kitap\, terlik\, vs) &uuml\;r&uuml\;n bağışlayara
 k.\nDostlarınızın bize bağış yapması i&ccedil\;in onları haberdar ederek.
 \nKermese gelip satacağımız &uuml\;r&uuml\;nlerden satın alarak.\nKermeste
  satış masalarında g&ouml\;rev yaparak.\n\nSaygılarımızla\nKermes tarihi: 
 12-13 Şubat 2016Saat: 10.30-19.30Adres: Vakıflar &Ccedil\;arşısı\, Halaska
 rgazi Cad. No:187 Şişli-İstanbul  (Vakıf binamızın 3 bina ilerisi)\n\nB&uu
 ml\;y&uuml\;k g&ouml\;rmek i&ccedil\;in fotoğrafa tıklayın!
DTSTART:20160212T083000Z
DTEND:20160212T083000Z
GEO:+41.058891;+28.986851
LOCATION:Vakıflar Çarşısı
ORGANIZER;CN=:mailto:turkkaracigervakfi@yahoo.com.tr
SEQUENCE:1
SUMMARY:KERMES
TRANSP:OPAQUE
URL:http://tkcv.org/vakif-hakkinda/etkinlikler/bitmis-etkinlikler/26-kermes
 /2016-02-12-10-30?iccaldate=2026-5-1
END:VEVENT
END:VCALENDAR
