BEGIN:VCALENDAR
VERSION:2.0
PRODID:-//Türk Karaciğer Vakfı//NONSGML kigkonsult.se iCalcreator 2.41.92//
CALSCALE:GREGORIAN
METHOD:PUBLISH
UID:37653535-3632-4134-a264-656166653930
X-WR-CALNAME:iCagenda
X-WR-CALDESC:Event Management Extension for Joomla!
X-WR-RELCALID:3E26604A-50F4-4449-8B3E-E4F4932D05B5
X-WR-TIMEZONE:Europe/Istanbul
BEGIN:VTIMEZONE
TZID:Europe/Istanbul
BEGIN:STANDARD
TZNAME:EET
DTSTART:20151108T040000
TZOFFSETFROM:+0300
TZOFFSETTO:+0200
END:STANDARD
BEGIN:STANDARD
TZNAME:+03
DTSTART:20160907T000000
TZOFFSETFROM:+0300
TZOFFSETTO:+0300
END:STANDARD
BEGIN:DAYLIGHT
TZNAME:EEST
DTSTART:20160327T030000
TZOFFSETFROM:+0200
TZOFFSETTO:+0300
END:DAYLIGHT
END:VTIMEZONE
BEGIN:VEVENT
UID:39633561-3835-4736-a330-633839646535
DTSTAMP:20260420T112110Z
CATEGORIES:Eğitim Toplantısı
CLASS:PUBLIC
DESCRIPTION;ALTREP="CID:<FFFF__=0ABBE548DFE235B58f9e8a93d@coffeebean.com>":
 01Ekim 2016 - Cumartesi\nSaygıdeğer meslektaşlarım\,\nT&uuml\;rk Karaciğer
  Vakfı (TKCV) ve Azerbaycan Tıp &Uuml\;niveristesi işbirliği ile ilkini 18
 -19 Eyl&uuml\;l 2015&rsquo\;te İstanbul&rsquo\;da yaptığımız Azerbaycan-T&
 uuml\;rkiye Ortak Hepatoloji Kursu&rsquo\;nun ikincisi\, daha &ouml\;nce s
 izlere ilan ettiğimiz &uuml\;zere 1 Ekim 2016 tarihinde Bak&uuml\;&rsquo\;
 de Azerbaycan Tıp &Uuml\;niversitesi yerleşkesinde ger&ccedil\;ekleşecekti
 r. T&uuml\;rkiye&rsquo\;den 20&rsquo\;ye yakın sayıda Gastroenteroloji-Hep
 atoloji uzmanının katılacağı bu aktivite &ouml\;zellikle Hepatolojik Acill
 er\, Viral Hepatitler\, Kolestatik Karaciğer Hastalıkları\, Karaciğer Yağl
 anması ve vaka tartışmaları ile ele alınacak karaciğer transplantasyonu gi
 bi ana konuları ve hepatolojinin diğer başlıklarını i&ccedil\;eren\, vaka 
 sunumları ve tartışmaları ile interaktif olunmasına gayret g&ouml\;sterilm
 iş bir bilimsel ziyafet\, hepimizin yeni şeyler &ouml\;ğreneceği bir mezun
 iyet sonrası eğitim toplantısı olacaktır. Bu kursun bilimsel faaliyetler t
 akvimimizde yer alması onu her yıl d&uuml\;zenli olarak ve diğer T&uuml\;r
 k cumhuriyetlerinden meslektaşlarımızın katılımını da sağlayacak şekilde b
 &uuml\;y&uuml\;terek ger&ccedil\;ekleştirmemize bağlıdır. Bu hususta &ouml
 \;nc&uuml\; girişimciler konumundaki T&uuml\;rkiye ve Azerbaycana &ouml\;z
 el bir g&ouml\;rev d&uuml\;şmektedir. İnşallah 2017 yılında İstanbul&rsquo
 \;da yapacağımız 3. Kurs bu konuda &ouml\;nemli bir atılıma sahne olacaktı
 r.\nDost ve kardeş Azerbaycan&rsquo\;ın başkenti\, d&uuml\;nya şehri Bak&u
 uml\;&rsquo\;de biraraya gelmek\, hasret gidermek\, beraber şiirlerimizi\,
  şarkılarımızı\, t&uuml\;rk&uuml\;lerimizi s&ouml\;ylemek ve T&uuml\;rk d&
 uuml\;nyasının geleceği i&ccedil\;in &ldquo\;Dilde\,Fikirde\, İşte Birlik&
 rdquo\; &uuml\;lk&uuml\;s&uuml\; doğrultusunda &ccedil\;alışmak&hellip\; T
 anrı dağlarından gelen yiğit kişinin yalnız olmadığını g&ouml\;stermeli ve
  ona eşlik etmek i&ccedil\;in hep birlikte ileri doğru y&uuml\;r&uuml\;mey
 e devam etmeli\, daha &ccedil\;ok &ccedil\;alışmalı\, daha &ccedil\;ok &uu
 ml\;retmeli\, daha &ccedil\;ok istemeli ve asla vazge&ccedil\;memliyiz. Bu
 nun i&ccedil\;in Azeri kardeşlerimizin ifadesi ile &ldquo\;Tanrı T&uuml\;r
 ke Yar ve Yardımcı Olsun&rdquo\;. Saygılarımla&hellip\;\nProf.Dr.Yılmaz &C
 cedil\;akaloğluTKCV Başkanı\nPROGRAM:\n\n\n\n09.30-10.00&nbsp\;\nA&ccedil\
 ;ılış\, ATU Rektoru Prof. Gəray GəraybəyliYusuf Bayraktar\, B&ouml\;y&uuml
 \;kkişi Agayev\, Yılmaz &Ccedil\;akaloğlu\,&nbsp\;Nuru Bayramov\n\n\n10.00
 -11.15\nHepatolojik Aciller: Vaka Sunumu ve DeğerlendirmeOturum Başkanları
 : Sadakat &Ouml\;zdil\, Ali Hidayatov\n\n\n10.00-10.25\nAkut Karaciğer Yet
 ersizliği -&nbsp\;G&uuml\;lnarə Ağayeva\n\n\n10.25-10.50\nKaraciğer Koması
  (Hepatik Ensefalopati) - &Ouml\;mer &Ouml\;z&uuml\;temiz\n\n\n10.50-11.15
 \nPortal Hipertansif &Uuml\;st GİS Kanama - Zor Hastalar ? - Kubilay &Cced
 il\;ınar\n\n\n11.15-11.45\nKahve Arası\n\n\n11.45-13.00\nHepatolojide Sıca
 k Konular 1Oturum Başkanı: Tankut İlter\, Tayyar Eyvazov\n\n\n11.45-12.10
 \nAlkol Dışı Yağlı Karaciğer Hastalığında Genetik ve Tedavi - Murat Kıyıcı
 \n\n\n12.10-12.35\nElastoqrafiya Təcr&uuml\;bəmiz - N.Bayramov\, S.Salahov
 a.\, K Mahmudova\n\n\n12.35-13.00\nDiaqnozu &ccedil\;ətin qaraciyər xəstəs
 i (vaka sunumu) - Aqil Ağakişiyev\n\n\n13.00-14.00\n&Ouml\;ğle Yemeği\n\n
 \n14.00-16.00\nKolestazlı Karaciğer HastalıklarıOturum Başkanları: Selim G
 &uuml\;rel\, Yusif Alxazov\n\n\n14.00-14.30\nKronik Kolestatik Karaciğer H
 astalıkları: Tanı\, Tedavi - Sedat Boyacıoğlu\n\n\n14.30-15.00\nBiliyer Pa
 nkreatitli Hasta: Tanı ve Tedavi - Erkan Parlak\n\n\n15.00-15.30\nİlaca Ba
 ğlı Kolestaz (Vaka Sunumu) - Koray Tuncer\n\n\n15.30-16.00\nKahve Arası\n
 \n\n16.00-18.05\nHepatolojide Sıcak Konular 2Oturum Başkanları: Atilla &Ou
 ml\;kten\, Murad Məmmədov\n\n\n16.00-16.25\nHepatit B Tedavisi\; T&uuml\;n
 elin Ucundaki Işık&hellip\; - Sabahattin Kaymakoğlu\n\n\n16.25-16.50\nKron
 ik Delta Hepatiti tedavisi: Tanrım Bir Mucize!.. - Cihan Yurdaydın\n\n\n16
 .50-17.15\nYeni İla&ccedil\;larla Tedavi\; HCV&rsquo\;siz Bir D&uuml\;nyay
 a Doğru&hellip\; - Nurdan T&ouml\;z&uuml\;n\n\n\n17.15-17.40\nOtoimmun Hep
 atit: Tanı ve Tedavide Yenilikler - Yusuf Bayraktar\n\n\n17.40-18.05\nKend
 im Ettim\, Kendim Buldum\; Zor Vaka Sunumu - Yılmaz &Ccedil\;akaloğlu\n\n
 \n18.05\nKapanış\n\n\n19.00\nAkşam Yemeği i&ccedil\;in hareket\n\n
DTSTART:20161001T063000Z
DTEND:20161001T063000Z
GEO:+40.40926;+49.867092
LOCATION:Bakü - Azerbaycan
ORGANIZER:
SEQUENCE:1
SUMMARY:2. TÜRKİYE-AZERBAYCAN ORTAK HEPATOLOJİ KURSU
TRANSP:OPAQUE
URL:http://tkcv.org/vakif-hakkinda/etkinlikler/bitmis-etkinlikler/32-2-turk
 iye-azerbaycan-ortak-hepatoloji-kursu/2016-10-01-09-30
END:VEVENT
END:VCALENDAR
