BEGIN:VCALENDAR
VERSION:2.0
PRODID:-//Türk Karaciğer Vakfı//NONSGML kigkonsult.se iCalcreator 2.41.92//
CALSCALE:GREGORIAN
METHOD:PUBLISH
UID:33336638-3636-4964-b162-633537656134
X-WR-CALNAME:iCagenda
X-WR-CALDESC:Event Management Extension for Joomla!
X-WR-RELCALID:3E26604A-50F4-4449-8B3E-E4F4932D05B5
X-WR-TIMEZONE:Europe/Istanbul
BEGIN:VTIMEZONE
TZID:Europe/Istanbul
BEGIN:STANDARD
TZNAME:+03
DTSTART:20160907T000000
TZOFFSETFROM:+0300
TZOFFSETTO:+0300
END:STANDARD
END:VTIMEZONE
BEGIN:VEVENT
UID:31353461-3230-4633-b938-373963306363
DTSTAMP:20260423T113717Z
CATEGORIES:Olağan Genel Kurul
CLASS:PUBLIC
DESCRIPTION;ALTREP="CID:<FFFF__=0ABBE548DFE235B58f9e8a93d@coffeebean.com>":
 Sayın Üyelerimiz\,  Vakfımızın yıllık Olağan Genel Kurulu Toplantısı\; 21.
 01.2018 Pazar saat 11.30 da&nbsp\;Türk Karaciğer Vakfı Merkezinde ( Halask
 argazi Cad.No: 181 Feza Apt.Kat.2 Şişli-İst.-Vakıflar Bankası Şişli Şubesi
  sırası ) ekseriyet aranmaksızın aşağıdaki gündemle yapılacaktır. Sayın Üy
 elerimizin teşrifleri rica olunur.  Yönetim Kurulu Adına Başkan Prof.Dr.Yı
 lmaz Çakaloğlu\nGÜNDEM:\n\nAçılış ve Yoklama\nKongre Başkanlık Divanı seçi
 mi\nCumhuriyetimizin kurucusu Atatürk\, bütün şehitlerimiz ve vefat eden ü
 yelerimiz için saygı duruşu.\nYönetim Kurulu faaliyet raporu ile Gelir-Gid
 er Tablosunun\, Denetim Kurulu Raporunun okunması ve müzakeresi.\nYönetim 
 Kurulu ve Denetim Kurulunun ayrı ayrı ibrası.\nTahmini Bütçenin görüşülere
 k onaylanması.\nYeni Yönetim Kurulu ve Denetim Kurulu asil ve yedek üyeler
 inin seçimi.\nDilek ve Temenniler.\nKapanış.
DTSTART:20180121T083000Z
DTEND:20180121T100000Z
GEO:+41.055332;+28.987059
LOCATION:Türk Karaciğer Vakfı Merkezi
ORGANIZER;CN=:mailto:turkkaracigervakfi@yahoo.com.tr
SEQUENCE:1
SUMMARY:Olağan Genel Kurul Toplantısı 2018
TRANSP:OPAQUE
URL:http://tkcv.org/vakif-hakkinda/etkinlikler/bitmis-etkinlikler/39-olagan
 -genel-kurul-toplantisi-2018-2?layout=vcal
END:VEVENT
END:VCALENDAR
