BEGIN:VCALENDAR
VERSION:2.0
PRODID:-//Türk Karaciğer Vakfı//NONSGML kigkonsult.se iCalcreator 2.41.92//
CALSCALE:GREGORIAN
METHOD:PUBLISH
UID:35393539-3137-4034-a239-393461363739
X-WR-CALNAME:iCagenda
X-WR-CALDESC:Event Management Extension for Joomla!
X-WR-RELCALID:3E26604A-50F4-4449-8B3E-E4F4932D05B5
X-WR-TIMEZONE:Europe/Istanbul
BEGIN:VTIMEZONE
TZID:Europe/Istanbul
BEGIN:STANDARD
TZNAME:+03
DTSTART:20190409T210000
TZOFFSETFROM:+0000
TZOFFSETTO:+0300
END:STANDARD
END:VTIMEZONE
BEGIN:VEVENT
UID:34353561-3036-4263-b364-626131623932
DTSTAMP:20260423T120811Z
CATEGORIES:Online Toplantı
CLASS:PUBLIC
DESCRIPTION;ALTREP="CID:<FFFF__=0ABBE548DFE235B58f9e8a93d@coffeebean.com>":
 \nİnstragram canlı yayını:&nbsp\;https://www.instagram.com/istbarosusaglik
 hukukmerk/?hl=tr
DTSTART:20210109T130000Z
DTEND:20210109T150000Z
GEO:00;0
LOCATION:İstanbul Barosu Sağlık Hukuk Merkezi İnstragram Hesabı
ORGANIZER:
SEQUENCE:1
SUMMARY:Karaciğer Hastalarının Hukuki Sorunları Paneli - Online
TRANSP:OPAQUE
URL:http://tkcv.org/vakif-hakkinda/etkinlikler/bitmis-etkinlikler/55-karaci
 ger-hastalar-n-n-hukuki-sorunlar-paneli-online?layout=vcal
END:VEVENT
END:VCALENDAR
