BEGIN:VCALENDAR
VERSION:2.0
PRODID:-//Türk Karaciğer Vakfı//NONSGML kigkonsult.se iCalcreator 2.41.92//
CALSCALE:GREGORIAN
METHOD:PUBLISH
UID:65363932-3963-4134-a234-333530656533
X-WR-CALNAME:iCagenda
X-WR-CALDESC:Event Management Extension for Joomla!
X-WR-RELCALID:3E26604A-50F4-4449-8B3E-E4F4932D05B5
X-WR-TIMEZONE:Europe/Istanbul
BEGIN:VTIMEZONE
TZID:Europe/Istanbul
BEGIN:STANDARD
TZNAME:+03
DTSTART:20230426T210000
TZOFFSETFROM:+0000
TZOFFSETTO:+0300
END:STANDARD
END:VTIMEZONE
BEGIN:VEVENT
UID:61393233-3730-4639-b938-656465373765
DTSTAMP:20260420T105558Z
CATEGORIES:Olağan Genel Kurul
CLASS:PUBLIC
DESCRIPTION;ALTREP="CID:<FFFF__=0ABBE548DFE235B58f9e8a93d@coffeebean.com>":
 Sayın Üyelerimiz\,  Vakfımızın yıllık Olağan Genel Kurulu Toplantısı\; 19.
 01.2025 Pazar saat 12.00 de\,ancak belirtilen günde çoğunluk sağlanamadığı
  takdirde\; 26.01.2025 Pazar saat 12.00 de&nbsp\;Türk Karaciğer Vakfı Merk
 ezinde (Halaskargazi Cad.No: 181 Feza Apt.Kat.2 Şişli-İst.-Vakıflar Bankas
 ı Şişli Şubesi sırası) ekseriyet aranmaksızın aşağıdaki gündemle yapılacak
 tır. Sayın Üyelerimizin teşrifleri rica olunur.  Yönetim Kurulu Adına Başk
 an Prof.Dr.Yılmaz Çakaloğlu\nGÜNDEM:\n\nAçılış ve Yoklama\nKongre Başkanlı
 k Divanı seçimi\nCumhuriyetimizin kurucusu Atatürk\, bütün şehitlerimiz ve
  vefat eden üyelerimiz için saygı duruşu.\nYönetim Kurulu faaliyet raporu 
 ile Gelir-Gider Tablosunun\, Denetim Kurulu Raporunun okunması ve müzakere
 si.\nYönetim Kurulu ve Denetim Kurulunun ayrı ayrı ibrası.\nTahmini Bütçen
 in görüşülerek onaylanması.\nYeni Yönetim Kurulu ile Denetim Kurulu asil v
 e yedek üyelerinin seçimi.\nDilek ve Temenniler.\nKapanış.
DTSTART:20250126T090000Z
DTEND:20250126T110000Z
GEO:00;0
LOCATION:Türk Karaciğer Vakfı Merkezi
ORGANIZER;CN=:mailto:turkkaracigervakfi@yahoo.com.tr
SEQUENCE:1
SUMMARY:Olağan Genel Kurul Toplantısı 2025
TRANSP:OPAQUE
URL:http://tkcv.org/vakif-hakkinda/etkinlikler/bitmis-etkinlikler/72-olagan
 -genel-kurul-toplantisi-2025-2
END:VEVENT
END:VCALENDAR
